BEGIN:VCALENDAR
VERSION:2.0
PRODID:-//Sektion Hesselberg des DAV e. V. - ECPv6.15.20//NONSGML v1.0//EN
CALSCALE:GREGORIAN
METHOD:PUBLISH
X-ORIGINAL-URL:https://www.dav-hesselberg.de
X-WR-CALDESC:Veranstaltungen für Sektion Hesselberg des DAV e. V.
REFRESH-INTERVAL;VALUE=DURATION:PT1H
X-Robots-Tag:noindex
X-PUBLISHED-TTL:PT1H
BEGIN:VTIMEZONE
TZID:Europe/Berlin
BEGIN:DAYLIGHT
TZOFFSETFROM:+0100
TZOFFSETTO:+0200
TZNAME:CEST
DTSTART:20250330T010000
END:DAYLIGHT
BEGIN:STANDARD
TZOFFSETFROM:+0200
TZOFFSETTO:+0100
TZNAME:CET
DTSTART:20251026T010000
END:STANDARD
BEGIN:DAYLIGHT
TZOFFSETFROM:+0100
TZOFFSETTO:+0200
TZNAME:CEST
DTSTART:20260329T010000
END:DAYLIGHT
BEGIN:STANDARD
TZOFFSETFROM:+0200
TZOFFSETTO:+0100
TZNAME:CET
DTSTART:20261025T010000
END:STANDARD
BEGIN:DAYLIGHT
TZOFFSETFROM:+0100
TZOFFSETTO:+0200
TZNAME:CEST
DTSTART:20270328T010000
END:DAYLIGHT
BEGIN:STANDARD
TZOFFSETFROM:+0200
TZOFFSETTO:+0100
TZNAME:CET
DTSTART:20271031T010000
END:STANDARD
END:VTIMEZONE
BEGIN:VEVENT
DTSTART;TZID=Europe/Berlin:20260601T183000
DTEND;TZID=Europe/Berlin:20260601T193000
DTSTAMP:20260424T031423
CREATED:20260303T040532Z
LAST-MODIFIED:20260303T040532Z
UID:61503-1780338600-1780342200@www.dav-hesselberg.de
SUMMARY:Lauftreff
DESCRIPTION:Lauftreff
URL:https://www.dav-hesselberg.de/termin/lauftreff-752/
LOCATION:Hallenbad\, Pestalozzistraße 24\, 91572 Bechhofen\, Deutschland
CATEGORIES:Laufen
END:VEVENT
BEGIN:VEVENT
DTSTART;TZID=Europe/Berlin:20260601T190000
DTEND;TZID=Europe/Berlin:20260601T200000
DTSTAMP:20260424T031423
CREATED:20260303T034600Z
LAST-MODIFIED:20260303T034600Z
UID:61501-1780340400-1780344000@www.dav-hesselberg.de
SUMMARY:Lauf10! Training
DESCRIPTION:www.dav-hesselberg.de/kurse-touren/lauf10/
URL:https://www.dav-hesselberg.de/termin/lauf10-training-129/
LOCATION:Hallenbad\, Pestalozzistraße 24\, 91572 Bechhofen\, Deutschland
CATEGORIES:Lauf10!
END:VEVENT
BEGIN:VEVENT
DTSTART;TZID=Europe/Berlin:20260602T090000
DTEND;TZID=Europe/Berlin:20260602T100000
DTSTAMP:20260424T031423
CREATED:20260304T054608Z
LAST-MODIFIED:20260304T054608Z
UID:61529-1780390800-1780394400@www.dav-hesselberg.de
SUMMARY:Nordic Walking
DESCRIPTION:Nordic Walking
URL:https://www.dav-hesselberg.de/termin/nordic-walking-302/
LOCATION:Hallenbad\, Pestalozzistraße 24\, 91572 Bechhofen\, Deutschland
CATEGORIES:Nordic Walking
END:VEVENT
BEGIN:VEVENT
DTSTART;TZID=Europe/Berlin:20260603T190000
DTEND;TZID=Europe/Berlin:20260603T200000
DTSTAMP:20260424T031423
CREATED:20260305T040058Z
LAST-MODIFIED:20260305T040058Z
UID:61549-1780513200-1780516800@www.dav-hesselberg.de
SUMMARY:Lauf10! Training
DESCRIPTION:www.dav-hesselberg.de/kurse-touren/lauf10/
URL:https://www.dav-hesselberg.de/termin/lauf10-training-130/
LOCATION:Hallenbad\, Pestalozzistraße 24\, 91572 Bechhofen\, Deutschland
CATEGORIES:Lauf10!
END:VEVENT
BEGIN:VEVENT
DTSTART;TZID=Europe/Berlin:20260604T183000
DTEND;TZID=Europe/Berlin:20260604T193000
DTSTAMP:20260424T031423
CREATED:20260306T041558Z
LAST-MODIFIED:20260306T041558Z
UID:61577-1780597800-1780601400@www.dav-hesselberg.de
SUMMARY:Lauftreff
DESCRIPTION:Lauftreff
URL:https://www.dav-hesselberg.de/termin/lauftreff-753/
LOCATION:Hallenbad\, Pestalozzistraße 24\, 91572 Bechhofen\, Deutschland
CATEGORIES:Laufen
END:VEVENT
BEGIN:VEVENT
DTSTART;TZID=Europe/Berlin:20260606T100000
DTEND;TZID=Europe/Berlin:20260606T120000
DTSTAMP:20260424T031423
CREATED:20260308T070058Z
LAST-MODIFIED:20260308T070058Z
UID:61631-1780740000-1780747200@www.dav-hesselberg.de
SUMMARY:MTB4Kids
DESCRIPTION:MTB4Kids
URL:https://www.dav-hesselberg.de/termin/mtb4kids-10/
LOCATION:Hallenbad\, Pestalozzistraße 24\, 91572 Bechhofen\, Deutschland
CATEGORIES:Jugend
END:VEVENT
BEGIN:VEVENT
DTSTART;TZID=Europe/Berlin:20260606T140000
DTEND;TZID=Europe/Berlin:20260606T170000
DTSTAMP:20260424T031423
CREATED:20260308T063108Z
LAST-MODIFIED:20260308T063108Z
UID:61629-1780754400-1780765200@www.dav-hesselberg.de
SUMMARY:MTB-Treff
DESCRIPTION:www.dav-hesselberg.de/gruppen-treffs/mtb-treff
URL:https://www.dav-hesselberg.de/termin/mtb-treff-377/
LOCATION:Pavillon am Marktplatz\, Bechhofen
CATEGORIES:MTB
END:VEVENT
BEGIN:VEVENT
DTSTART;TZID=Europe/Berlin:20260606T150000
DTEND;TZID=Europe/Berlin:20260606T160000
DTSTAMP:20260424T031423
CREATED:20260308T043058Z
LAST-MODIFIED:20260308T043058Z
UID:61625-1780758000-1780761600@www.dav-hesselberg.de
SUMMARY:Lauftreff
DESCRIPTION:Lauftreff
URL:https://www.dav-hesselberg.de/termin/lauftreff-754/
LOCATION:Hallenbad\, Pestalozzistraße 24\, 91572 Bechhofen\, Deutschland
CATEGORIES:Laufen
END:VEVENT
BEGIN:VEVENT
DTSTART;TZID=Europe/Berlin:20260606T160000
DTEND;TZID=Europe/Berlin:20260606T170000
DTSTAMP:20260424T031423
CREATED:20260308T041559Z
LAST-MODIFIED:20260308T041559Z
UID:61623-1780761600-1780765200@www.dav-hesselberg.de
SUMMARY:Lauf10! Training
DESCRIPTION:www.dav-hesselberg.de/kurse-touren/lauf10/
URL:https://www.dav-hesselberg.de/termin/lauf10-training-131/
LOCATION:Hallenbad\, Pestalozzistraße 24\, 91572 Bechhofen\, Deutschland
CATEGORIES:Lauf10!
END:VEVENT
BEGIN:VEVENT
DTSTART;TZID=Europe/Berlin:20260608T183000
DTEND;TZID=Europe/Berlin:20260608T193000
DTSTAMP:20260424T031423
CREATED:20260310T043100Z
LAST-MODIFIED:20260310T043100Z
UID:61675-1780943400-1780947000@www.dav-hesselberg.de
SUMMARY:Lauftreff
DESCRIPTION:Lauftreff
URL:https://www.dav-hesselberg.de/termin/lauftreff-755/
LOCATION:Hallenbad\, Pestalozzistraße 24\, 91572 Bechhofen\, Deutschland
CATEGORIES:Laufen
END:VEVENT
BEGIN:VEVENT
DTSTART;TZID=Europe/Berlin:20260608T190000
DTEND;TZID=Europe/Berlin:20260608T200000
DTSTAMP:20260424T031423
CREATED:20260310T043101Z
LAST-MODIFIED:20260310T043101Z
UID:61676-1780945200-1780948800@www.dav-hesselberg.de
SUMMARY:Lauf10! Training
DESCRIPTION:www.dav-hesselberg.de/kurse-touren/lauf10/
URL:https://www.dav-hesselberg.de/termin/lauf10-training-132/
LOCATION:Hallenbad\, Pestalozzistraße 24\, 91572 Bechhofen\, Deutschland
CATEGORIES:Lauf10!
END:VEVENT
BEGIN:VEVENT
DTSTART;TZID=Europe/Berlin:20260609T090000
DTEND;TZID=Europe/Berlin:20260609T100000
DTSTAMP:20260424T031423
CREATED:20260311T060058Z
LAST-MODIFIED:20260311T060058Z
UID:61705-1780995600-1780999200@www.dav-hesselberg.de
SUMMARY:Nordic Walking
DESCRIPTION:Nordic Walking
URL:https://www.dav-hesselberg.de/termin/nordic-walking-303/
LOCATION:Hallenbad\, Pestalozzistraße 24\, 91572 Bechhofen\, Deutschland
CATEGORIES:Nordic Walking
END:VEVENT
BEGIN:VEVENT
DTSTART;TZID=Europe/Berlin:20260609T180000
DTEND;TZID=Europe/Berlin:20260609T190000
DTSTAMP:20260424T031423
CREATED:20260311T050100Z
LAST-MODIFIED:20260311T050100Z
UID:61702-1781028000-1781031600@www.dav-hesselberg.de
SUMMARY:Kletterturm Gruppe 1
DESCRIPTION:Klettern im Turm
URL:https://www.dav-hesselberg.de/termin/kletterturm-gruppe-1-166/
LOCATION:Kletterturm Sektion Hesselberg des DAV e.V.\, 91572 Bechhofen\, Deutschland
CATEGORIES:Klettern & Bouldern
END:VEVENT
BEGIN:VEVENT
DTSTART;TZID=Europe/Berlin:20260609T190000
DTEND;TZID=Europe/Berlin:20260609T200000
DTSTAMP:20260424T031423
CREATED:20260311T050100Z
LAST-MODIFIED:20260311T050100Z
UID:61703-1781031600-1781035200@www.dav-hesselberg.de
SUMMARY:Kletterturm Gruppe 2
DESCRIPTION:Klettern im Turm
URL:https://www.dav-hesselberg.de/termin/kletterturm-gruppe-2-166/
LOCATION:Kletterturm Sektion Hesselberg des DAV e.V.\, 91572 Bechhofen\, Deutschland
CATEGORIES:Klettern & Bouldern
END:VEVENT
BEGIN:VEVENT
DTSTART;TZID=Europe/Berlin:20260611T180000
DTEND;TZID=Europe/Berlin:20260611T190000
DTSTAMP:20260424T031423
CREATED:20260313T053058Z
LAST-MODIFIED:20260313T053058Z
UID:61766-1781200800-1781204400@www.dav-hesselberg.de
SUMMARY:Kletterturm Gruppe 3
DESCRIPTION:Klettern im Turm
URL:https://www.dav-hesselberg.de/termin/kletterturm-gruppe-3-163/
LOCATION:Kletterturm Sektion Hesselberg des DAV e.V.\, 91572 Bechhofen\, Deutschland
CATEGORIES:Klettern & Bouldern
END:VEVENT
BEGIN:VEVENT
DTSTART;TZID=Europe/Berlin:20260611T183000
DTEND;TZID=Europe/Berlin:20260611T193000
DTSTAMP:20260424T031423
CREATED:20260313T050059Z
LAST-MODIFIED:20260313T050059Z
UID:61764-1781202600-1781206200@www.dav-hesselberg.de
SUMMARY:Lauftreff
DESCRIPTION:Lauftreff
URL:https://www.dav-hesselberg.de/termin/lauftreff-756/
LOCATION:Hallenbad\, Pestalozzistraße 24\, 91572 Bechhofen\, Deutschland
CATEGORIES:Laufen
END:VEVENT
BEGIN:VEVENT
DTSTART;TZID=Europe/Berlin:20260611T190000
DTEND;TZID=Europe/Berlin:20260611T200000
DTSTAMP:20260424T031423
CREATED:20260313T044556Z
LAST-MODIFIED:20260313T044556Z
UID:61762-1781204400-1781208000@www.dav-hesselberg.de
SUMMARY:Lauf10! Training
DESCRIPTION:www.dav-hesselberg.de/kurse-touren/lauf10/
URL:https://www.dav-hesselberg.de/termin/lauf10-training-133/
LOCATION:Hallenbad\, Pestalozzistraße 24\, 91572 Bechhofen\, Deutschland
CATEGORIES:Lauf10!
END:VEVENT
BEGIN:VEVENT
DTSTART;TZID=Europe/Berlin:20260611T190000
DTEND;TZID=Europe/Berlin:20260611T200000
DTSTAMP:20260424T031423
CREATED:20260313T053058Z
LAST-MODIFIED:20260313T053058Z
UID:61767-1781204400-1781208000@www.dav-hesselberg.de
SUMMARY:Kletterturm Gruppe 4
DESCRIPTION:Klettern im Turm
URL:https://www.dav-hesselberg.de/termin/kletterturm-gruppe-4-162/
LOCATION:Kletterturm Sektion Hesselberg des DAV e.V.\, 91572 Bechhofen\, Deutschland
CATEGORIES:Klettern & Bouldern
END:VEVENT
BEGIN:VEVENT
DTSTART;TZID=Europe/Berlin:20260613T140000
DTEND;TZID=Europe/Berlin:20260613T170000
DTSTAMP:20260424T031423
CREATED:20260315T063059Z
LAST-MODIFIED:20260315T063059Z
UID:61823-1781359200-1781370000@www.dav-hesselberg.de
SUMMARY:MTB-Treff
DESCRIPTION:www.dav-hesselberg.de/gruppen-treffs/mtb-treff
URL:https://www.dav-hesselberg.de/termin/mtb-treff-378/
LOCATION:Pavillon am Marktplatz\, Bechhofen
CATEGORIES:MTB
END:VEVENT
BEGIN:VEVENT
DTSTART;TZID=Europe/Berlin:20260613T150000
DTEND;TZID=Europe/Berlin:20260613T160000
DTSTAMP:20260424T031423
CREATED:20260315T050059Z
LAST-MODIFIED:20260315T050059Z
UID:61819-1781362800-1781366400@www.dav-hesselberg.de
SUMMARY:Lauftreff
DESCRIPTION:Lauftreff
URL:https://www.dav-hesselberg.de/termin/lauftreff-757/
LOCATION:Hallenbad\, Pestalozzistraße 24\, 91572 Bechhofen\, Deutschland
CATEGORIES:Laufen
END:VEVENT
BEGIN:VEVENT
DTSTART;TZID=Europe/Berlin:20260613T160000
DTEND;TZID=Europe/Berlin:20260613T170000
DTSTAMP:20260424T031423
CREATED:20260315T044558Z
LAST-MODIFIED:20260315T044558Z
UID:61817-1781366400-1781370000@www.dav-hesselberg.de
SUMMARY:Lauf10! Training
DESCRIPTION:www.dav-hesselberg.de/kurse-touren/lauf10/
URL:https://www.dav-hesselberg.de/termin/lauf10-training-134/
LOCATION:Hallenbad\, Pestalozzistraße 24\, 91572 Bechhofen\, Deutschland
CATEGORIES:Lauf10!
END:VEVENT
BEGIN:VEVENT
DTSTART;TZID=Europe/Berlin:20260615T183000
DTEND;TZID=Europe/Berlin:20260615T193000
DTSTAMP:20260424T031423
CREATED:20260317T051602Z
LAST-MODIFIED:20260317T051602Z
UID:61868-1781548200-1781551800@www.dav-hesselberg.de
SUMMARY:Lauftreff
DESCRIPTION:Lauftreff
URL:https://www.dav-hesselberg.de/termin/lauftreff-758/
LOCATION:Hallenbad\, Pestalozzistraße 24\, 91572 Bechhofen\, Deutschland
CATEGORIES:Laufen
END:VEVENT
BEGIN:VEVENT
DTSTART;TZID=Europe/Berlin:20260615T190000
DTEND;TZID=Europe/Berlin:20260615T200000
DTSTAMP:20260424T031423
CREATED:20260317T051603Z
LAST-MODIFIED:20260317T051603Z
UID:61869-1781550000-1781553600@www.dav-hesselberg.de
SUMMARY:Lauf10! Training
DESCRIPTION:www.dav-hesselberg.de/kurse-touren/lauf10/
URL:https://www.dav-hesselberg.de/termin/lauf10-training-135/
LOCATION:Hallenbad\, Pestalozzistraße 24\, 91572 Bechhofen\, Deutschland
CATEGORIES:Lauf10!
END:VEVENT
BEGIN:VEVENT
DTSTART;TZID=Europe/Berlin:20260616T090000
DTEND;TZID=Europe/Berlin:20260616T100000
DTSTAMP:20260424T031423
CREATED:20260318T070059Z
LAST-MODIFIED:20260318T070059Z
UID:61899-1781600400-1781604000@www.dav-hesselberg.de
SUMMARY:Nordic Walking
DESCRIPTION:Nordic Walking
URL:https://www.dav-hesselberg.de/termin/nordic-walking-304/
LOCATION:Hallenbad\, Pestalozzistraße 24\, 91572 Bechhofen\, Deutschland
CATEGORIES:Nordic Walking
END:VEVENT
BEGIN:VEVENT
DTSTART;TZID=Europe/Berlin:20260616T180000
DTEND;TZID=Europe/Berlin:20260616T190000
DTSTAMP:20260424T031423
CREATED:20260318T060059Z
LAST-MODIFIED:20260318T060059Z
UID:61895-1781632800-1781636400@www.dav-hesselberg.de
SUMMARY:Kletterturm Gruppe 1
DESCRIPTION:Klettern im Turm
URL:https://www.dav-hesselberg.de/termin/kletterturm-gruppe-1-167/
LOCATION:Kletterturm Sektion Hesselberg des DAV e.V.\, 91572 Bechhofen\, Deutschland
CATEGORIES:Klettern & Bouldern
END:VEVENT
BEGIN:VEVENT
DTSTART;TZID=Europe/Berlin:20260616T190000
DTEND;TZID=Europe/Berlin:20260616T200000
DTSTAMP:20260424T031423
CREATED:20260318T060059Z
LAST-MODIFIED:20260318T060059Z
UID:61896-1781636400-1781640000@www.dav-hesselberg.de
SUMMARY:Kletterturm Gruppe 2
DESCRIPTION:Klettern im Turm
URL:https://www.dav-hesselberg.de/termin/kletterturm-gruppe-2-167/
LOCATION:Kletterturm Sektion Hesselberg des DAV e.V.\, 91572 Bechhofen\, Deutschland
CATEGORIES:Klettern & Bouldern
END:VEVENT
BEGIN:VEVENT
DTSTART;TZID=Europe/Berlin:20260618T180000
DTEND;TZID=Europe/Berlin:20260618T190000
DTSTAMP:20260424T031423
CREATED:20260320T060059Z
LAST-MODIFIED:20260320T060059Z
UID:61962-1781805600-1781809200@www.dav-hesselberg.de
SUMMARY:Kletterturm Gruppe 3
DESCRIPTION:Klettern im Turm
URL:https://www.dav-hesselberg.de/termin/kletterturm-gruppe-3-164/
LOCATION:Kletterturm Sektion Hesselberg des DAV e.V.\, 91572 Bechhofen\, Deutschland
CATEGORIES:Klettern & Bouldern
END:VEVENT
BEGIN:VEVENT
DTSTART;TZID=Europe/Berlin:20260618T183000
DTEND;TZID=Europe/Berlin:20260618T193000
DTSTAMP:20260424T031423
CREATED:20260320T054559Z
LAST-MODIFIED:20260320T054559Z
UID:61959-1781807400-1781811000@www.dav-hesselberg.de
SUMMARY:Lauftreff
DESCRIPTION:Lauftreff
URL:https://www.dav-hesselberg.de/termin/lauftreff-759/
LOCATION:Hallenbad\, Pestalozzistraße 24\, 91572 Bechhofen\, Deutschland
CATEGORIES:Laufen
END:VEVENT
BEGIN:VEVENT
DTSTART;TZID=Europe/Berlin:20260618T190000
DTEND;TZID=Europe/Berlin:20260618T200000
DTSTAMP:20260424T031423
CREATED:20260320T052031Z
LAST-MODIFIED:20260320T052031Z
UID:61957-1781809200-1781812800@www.dav-hesselberg.de
SUMMARY:Lauf10! Training
DESCRIPTION:www.dav-hesselberg.de/kurse-touren/lauf10/
URL:https://www.dav-hesselberg.de/termin/lauf10-training-136/
LOCATION:Hallenbad\, Pestalozzistraße 24\, 91572 Bechhofen\, Deutschland
CATEGORIES:Lauf10!
END:VEVENT
BEGIN:VEVENT
DTSTART;TZID=Europe/Berlin:20260618T190000
DTEND;TZID=Europe/Berlin:20260618T200000
DTSTAMP:20260424T031423
CREATED:20260320T060058Z
LAST-MODIFIED:20260320T060058Z
UID:61961-1781809200-1781812800@www.dav-hesselberg.de
SUMMARY:Kletterturm Gruppe 4
DESCRIPTION:Klettern im Turm
URL:https://www.dav-hesselberg.de/termin/kletterturm-gruppe-4-163/
LOCATION:Kletterturm Sektion Hesselberg des DAV e.V.\, 91572 Bechhofen\, Deutschland
CATEGORIES:Klettern & Bouldern
END:VEVENT
END:VCALENDAR