BEGIN:VCALENDAR
VERSION:2.0
PRODID:-//Sektion Hesselberg des DAV e. V. - ECPv6.15.20//NONSGML v1.0//EN
CALSCALE:GREGORIAN
METHOD:PUBLISH
X-ORIGINAL-URL:https://www.dav-hesselberg.de
X-WR-CALDESC:Veranstaltungen für Sektion Hesselberg des DAV e. V.
REFRESH-INTERVAL;VALUE=DURATION:PT1H
X-Robots-Tag:noindex
X-PUBLISHED-TTL:PT1H
BEGIN:VTIMEZONE
TZID:Europe/Berlin
BEGIN:DAYLIGHT
TZOFFSETFROM:+0100
TZOFFSETTO:+0200
TZNAME:CEST
DTSTART:20250330T010000
END:DAYLIGHT
BEGIN:STANDARD
TZOFFSETFROM:+0200
TZOFFSETTO:+0100
TZNAME:CET
DTSTART:20251026T010000
END:STANDARD
BEGIN:DAYLIGHT
TZOFFSETFROM:+0100
TZOFFSETTO:+0200
TZNAME:CEST
DTSTART:20260329T010000
END:DAYLIGHT
BEGIN:STANDARD
TZOFFSETFROM:+0200
TZOFFSETTO:+0100
TZNAME:CET
DTSTART:20261025T010000
END:STANDARD
BEGIN:DAYLIGHT
TZOFFSETFROM:+0100
TZOFFSETTO:+0200
TZNAME:CEST
DTSTART:20270328T010000
END:DAYLIGHT
BEGIN:STANDARD
TZOFFSETFROM:+0200
TZOFFSETTO:+0100
TZNAME:CET
DTSTART:20271031T010000
END:STANDARD
END:VTIMEZONE
BEGIN:VEVENT
DTSTART;TZID=Europe/Berlin:20260302T183000
DTEND;TZID=Europe/Berlin:20260302T193000
DTSTAMP:20260424T025517
CREATED:20251202T183440Z
LAST-MODIFIED:20251202T183440Z
UID:58972-1772476200-1772479800@www.dav-hesselberg.de
SUMMARY:Lauftreff
DESCRIPTION:Lauftreff
URL:https://www.dav-hesselberg.de/termin/lauftreff-713/
LOCATION:Hallenbad\, Pestalozzistraße 24\, 91572 Bechhofen\, Deutschland
CATEGORIES:Laufen
END:VEVENT
BEGIN:VEVENT
DTSTART;TZID=Europe/Berlin:20260303T090000
DTEND;TZID=Europe/Berlin:20260303T100000
DTSTAMP:20260424T025517
CREATED:20251203T174949Z
LAST-MODIFIED:20251203T174949Z
UID:58994-1772528400-1772532000@www.dav-hesselberg.de
SUMMARY:Nordic Walking
DESCRIPTION:Nordic Walking
URL:https://www.dav-hesselberg.de/termin/nordic-walking-289/
LOCATION:Hallenbad\, Pestalozzistraße 24\, 91572 Bechhofen\, Deutschland
CATEGORIES:Nordic Walking
END:VEVENT
BEGIN:VEVENT
DTSTART;TZID=Europe/Berlin:20260303T180000
DTEND;TZID=Europe/Berlin:20260303T190000
DTSTAMP:20260424T025517
CREATED:20251203T154941Z
LAST-MODIFIED:20251203T154941Z
UID:58989-1772560800-1772564400@www.dav-hesselberg.de
SUMMARY:Kletterturm Gruppe 1
DESCRIPTION:Klettern im Turm
URL:https://www.dav-hesselberg.de/termin/kletterturm-gruppe-1-153/
LOCATION:Kletterturm Sektion Hesselberg des DAV e.V.\, 91572 Bechhofen\, Deutschland
CATEGORIES:Klettern & Bouldern
END:VEVENT
BEGIN:VEVENT
DTSTART;TZID=Europe/Berlin:20260303T190000
DTEND;TZID=Europe/Berlin:20260303T200000
DTSTAMP:20260424T025517
CREATED:20251203T154941Z
LAST-MODIFIED:20251203T154941Z
UID:58988-1772564400-1772568000@www.dav-hesselberg.de
SUMMARY:Kletterturm Gruppe 2
DESCRIPTION:Klettern im Turm
URL:https://www.dav-hesselberg.de/termin/kletterturm-gruppe-2-153/
LOCATION:Kletterturm Sektion Hesselberg des DAV e.V.\, 91572 Bechhofen\, Deutschland
CATEGORIES:Klettern & Bouldern
END:VEVENT
BEGIN:VEVENT
DTSTART;TZID=Europe/Berlin:20260305T180000
DTEND;TZID=Europe/Berlin:20260305T190000
DTSTAMP:20260424T025517
CREATED:20251205T154941Z
LAST-MODIFIED:20251205T154941Z
UID:59037-1772733600-1772737200@www.dav-hesselberg.de
SUMMARY:Kletterturm Gruppe 3
DESCRIPTION:Klettern im Turm
URL:https://www.dav-hesselberg.de/termin/kletterturm-gruppe-3-151/
LOCATION:Kletterturm Sektion Hesselberg des DAV e.V.\, 91572 Bechhofen\, Deutschland
CATEGORIES:Klettern & Bouldern
END:VEVENT
BEGIN:VEVENT
DTSTART;TZID=Europe/Berlin:20260305T183000
DTEND;TZID=Europe/Berlin:20260305T193000
DTSTAMP:20260424T025517
CREATED:20251205T183439Z
LAST-MODIFIED:20251205T183439Z
UID:59045-1772735400-1772739000@www.dav-hesselberg.de
SUMMARY:Lauftreff
DESCRIPTION:Lauftreff
URL:https://www.dav-hesselberg.de/termin/lauftreff-714/
LOCATION:Hallenbad\, Pestalozzistraße 24\, 91572 Bechhofen\, Deutschland
CATEGORIES:Laufen
END:VEVENT
BEGIN:VEVENT
DTSTART;TZID=Europe/Berlin:20260305T190000
DTEND;TZID=Europe/Berlin:20260305T200000
DTSTAMP:20260424T025517
CREATED:20251205T034939Z
LAST-MODIFIED:20251205T034939Z
UID:59031-1772737200-1772740800@www.dav-hesselberg.de
SUMMARY:Ski- und Fitness-Gymnastik
DESCRIPTION:Ski-Gymnastik
URL:https://www.dav-hesselberg.de/termin/ski-und-fitness-gymnastik-35/
LOCATION:TSV Bechhofen Turnabteilung\, Pestalozzistraße\, 91572 Bechhofen\, Deutschland
CATEGORIES:Wintersport
END:VEVENT
BEGIN:VEVENT
DTSTART;TZID=Europe/Berlin:20260305T190000
DTEND;TZID=Europe/Berlin:20260305T200000
DTSTAMP:20260424T025517
CREATED:20251205T154941Z
LAST-MODIFIED:20251205T154941Z
UID:59036-1772737200-1772740800@www.dav-hesselberg.de
SUMMARY:Kletterturm Gruppe 4
DESCRIPTION:Klettern im Turm
URL:https://www.dav-hesselberg.de/termin/kletterturm-gruppe-4-150/
LOCATION:Kletterturm Sektion Hesselberg des DAV e.V.\, 91572 Bechhofen\, Deutschland
CATEGORIES:Klettern & Bouldern
END:VEVENT
BEGIN:VEVENT
DTSTART;TZID=Europe/Berlin:20260307T140000
DTEND;TZID=Europe/Berlin:20260307T170000
DTSTAMP:20260424T025517
CREATED:20251207T161939Z
LAST-MODIFIED:20251207T161939Z
UID:59088-1772892000-1772902800@www.dav-hesselberg.de
SUMMARY:MTB-Treff
DESCRIPTION:www.dav-hesselberg.de/gruppen-treffs/mtb-treff
URL:https://www.dav-hesselberg.de/termin/mtb-treff-364/
LOCATION:Pavillon am Marktplatz\, Bechhofen
CATEGORIES:MTB
END:VEVENT
BEGIN:VEVENT
DTSTART;TZID=Europe/Berlin:20260307T150000
DTEND;TZID=Europe/Berlin:20260307T160000
DTSTAMP:20260424T025517
CREATED:20251207T184938Z
LAST-MODIFIED:20251207T184938Z
UID:59094-1772895600-1772899200@www.dav-hesselberg.de
SUMMARY:Lauftreff
DESCRIPTION:Lauftreff
URL:https://www.dav-hesselberg.de/termin/lauftreff-715/
LOCATION:Hallenbad\, Pestalozzistraße 24\, 91572 Bechhofen\, Deutschland
CATEGORIES:Laufen
END:VEVENT
BEGIN:VEVENT
DTSTART;TZID=Europe/Berlin:20260308T120000
DTEND;TZID=Europe/Berlin:20260308T170000
DTSTAMP:20260424T025517
CREATED:20251211T173442Z
LAST-MODIFIED:20251211T173442Z
UID:59250-1772971200-1772989200@www.dav-hesselberg.de
SUMMARY:Wanderung
DESCRIPTION:Wandern
URL:https://www.dav-hesselberg.de/termin/wanderung/
CATEGORIES:Wandern
END:VEVENT
BEGIN:VEVENT
DTSTART;TZID=Europe/Berlin:20260309T183000
DTEND;TZID=Europe/Berlin:20260309T193000
DTSTAMP:20260424T025517
CREATED:20251209T190441Z
LAST-MODIFIED:20251209T190441Z
UID:59141-1773081000-1773084600@www.dav-hesselberg.de
SUMMARY:Lauftreff
DESCRIPTION:Lauftreff
URL:https://www.dav-hesselberg.de/termin/lauftreff-716/
LOCATION:Hallenbad\, Pestalozzistraße 24\, 91572 Bechhofen\, Deutschland
CATEGORIES:Laufen
END:VEVENT
BEGIN:VEVENT
DTSTART;TZID=Europe/Berlin:20260310T090000
DTEND;TZID=Europe/Berlin:20260310T100000
DTSTAMP:20260424T025517
CREATED:20251210T183438Z
LAST-MODIFIED:20251210T183438Z
UID:59163-1773133200-1773136800@www.dav-hesselberg.de
SUMMARY:Nordic Walking
DESCRIPTION:Nordic Walking
URL:https://www.dav-hesselberg.de/termin/nordic-walking-290/
LOCATION:Hallenbad\, Pestalozzistraße 24\, 91572 Bechhofen\, Deutschland
CATEGORIES:Nordic Walking
END:VEVENT
BEGIN:VEVENT
DTSTART;TZID=Europe/Berlin:20260310T180000
DTEND;TZID=Europe/Berlin:20260310T190000
DTSTAMP:20260424T025517
CREATED:20251210T144945Z
LAST-MODIFIED:20251210T144945Z
UID:59155-1773165600-1773169200@www.dav-hesselberg.de
SUMMARY:Kletterturm Gruppe 1
DESCRIPTION:Klettern im Turm
URL:https://www.dav-hesselberg.de/termin/kletterturm-gruppe-1-154/
LOCATION:Kletterturm Sektion Hesselberg des DAV e.V.\, 91572 Bechhofen\, Deutschland
CATEGORIES:Klettern & Bouldern
END:VEVENT
BEGIN:VEVENT
DTSTART;TZID=Europe/Berlin:20260310T190000
DTEND;TZID=Europe/Berlin:20260310T200000
DTSTAMP:20260424T025517
CREATED:20251210T144944Z
LAST-MODIFIED:20251210T144944Z
UID:59154-1773169200-1773172800@www.dav-hesselberg.de
SUMMARY:Kletterturm Gruppe 2
DESCRIPTION:Klettern im Turm
URL:https://www.dav-hesselberg.de/termin/kletterturm-gruppe-2-154/
LOCATION:Kletterturm Sektion Hesselberg des DAV e.V.\, 91572 Bechhofen\, Deutschland
CATEGORIES:Klettern & Bouldern
END:VEVENT
BEGIN:VEVENT
DTSTART;TZID=Europe/Berlin:20260312T180000
DTEND;TZID=Europe/Berlin:20260312T190000
DTSTAMP:20260424T025517
CREATED:20251212T150444Z
LAST-MODIFIED:20251212T150444Z
UID:59269-1773338400-1773342000@www.dav-hesselberg.de
SUMMARY:Kletterturm Gruppe 3
DESCRIPTION:Klettern im Turm
URL:https://www.dav-hesselberg.de/termin/kletterturm-gruppe-3-152/
LOCATION:Kletterturm Sektion Hesselberg des DAV e.V.\, 91572 Bechhofen\, Deutschland
CATEGORIES:Klettern & Bouldern
END:VEVENT
BEGIN:VEVENT
DTSTART;TZID=Europe/Berlin:20260312T183000
DTEND;TZID=Europe/Berlin:20260312T193000
DTSTAMP:20260424T025517
CREATED:20251212T192034Z
LAST-MODIFIED:20251212T192034Z
UID:59306-1773340200-1773343800@www.dav-hesselberg.de
SUMMARY:Lauftreff
DESCRIPTION:Lauftreff
URL:https://www.dav-hesselberg.de/termin/lauftreff-717/
LOCATION:Hallenbad\, Pestalozzistraße 24\, 91572 Bechhofen\, Deutschland
CATEGORIES:Laufen
END:VEVENT
BEGIN:VEVENT
DTSTART;TZID=Europe/Berlin:20260312T190000
DTEND;TZID=Europe/Berlin:20260312T200000
DTSTAMP:20260424T025517
CREATED:20251212T150445Z
LAST-MODIFIED:20251212T150445Z
UID:59270-1773342000-1773345600@www.dav-hesselberg.de
SUMMARY:Kletterturm Gruppe 4
DESCRIPTION:Klettern im Turm
URL:https://www.dav-hesselberg.de/termin/kletterturm-gruppe-4-151/
LOCATION:Kletterturm Sektion Hesselberg des DAV e.V.\, 91572 Bechhofen\, Deutschland
CATEGORIES:Klettern & Bouldern
END:VEVENT
BEGIN:VEVENT
DTSTART;TZID=Europe/Berlin:20260312T190000
DTEND;TZID=Europe/Berlin:20260312T200000
DTSTAMP:20260424T025517
CREATED:20251212T211941Z
LAST-MODIFIED:20251212T211941Z
UID:59312-1773342000-1773345600@www.dav-hesselberg.de
SUMMARY:Ski- und Fitness-Gymnastik
DESCRIPTION:Ski-Gymnastik
URL:https://www.dav-hesselberg.de/termin/ski-und-fitness-gymnastik-36/
LOCATION:TSV Bechhofen Turnabteilung\, Pestalozzistraße\, 91572 Bechhofen\, Deutschland
CATEGORIES:Wintersport
END:VEVENT
BEGIN:VEVENT
DTSTART;TZID=Europe/Berlin:20260314T140000
DTEND;TZID=Europe/Berlin:20260314T170000
DTSTAMP:20260424T025517
CREATED:20251214T161938Z
LAST-MODIFIED:20251214T161938Z
UID:59348-1773496800-1773507600@www.dav-hesselberg.de
SUMMARY:MTB-Treff
DESCRIPTION:www.dav-hesselberg.de/gruppen-treffs/mtb-treff
URL:https://www.dav-hesselberg.de/termin/mtb-treff-365/
LOCATION:Pavillon am Marktplatz\, Bechhofen
CATEGORIES:MTB
END:VEVENT
BEGIN:VEVENT
DTSTART;TZID=Europe/Berlin:20260314T150000
DTEND;TZID=Europe/Berlin:20260314T160000
DTSTAMP:20260424T025517
CREATED:20251214T194939Z
LAST-MODIFIED:20251214T194939Z
UID:59355-1773500400-1773504000@www.dav-hesselberg.de
SUMMARY:Lauftreff
DESCRIPTION:Lauftreff
URL:https://www.dav-hesselberg.de/termin/lauftreff-718/
LOCATION:Hallenbad\, Pestalozzistraße 24\, 91572 Bechhofen\, Deutschland
CATEGORIES:Laufen
END:VEVENT
BEGIN:VEVENT
DTSTART;TZID=Europe/Berlin:20260316T183000
DTEND;TZID=Europe/Berlin:20260316T193000
DTSTAMP:20260424T025517
CREATED:20251216T194940Z
LAST-MODIFIED:20251216T194940Z
UID:59403-1773685800-1773689400@www.dav-hesselberg.de
SUMMARY:Lauftreff
DESCRIPTION:Lauftreff
URL:https://www.dav-hesselberg.de/termin/lauftreff-719/
LOCATION:Hallenbad\, Pestalozzistraße 24\, 91572 Bechhofen\, Deutschland
CATEGORIES:Laufen
END:VEVENT
BEGIN:VEVENT
DTSTART;TZID=Europe/Berlin:20260317T090000
DTEND;TZID=Europe/Berlin:20260317T100000
DTSTAMP:20260424T025517
CREATED:20251218T192104Z
LAST-MODIFIED:20251218T192104Z
UID:59460-1773738000-1773741600@www.dav-hesselberg.de
SUMMARY:Nordic Walking
DESCRIPTION:Nordic Walking
URL:https://www.dav-hesselberg.de/termin/nordic-walking-291/
LOCATION:Hallenbad\, Pestalozzistraße 24\, 91572 Bechhofen\, Deutschland
CATEGORIES:Nordic Walking
END:VEVENT
BEGIN:VEVENT
DTSTART;TZID=Europe/Berlin:20260317T180000
DTEND;TZID=Europe/Berlin:20260317T190000
DTSTAMP:20260424T025517
CREATED:20251218T182034Z
LAST-MODIFIED:20251218T182034Z
UID:59457-1773770400-1773774000@www.dav-hesselberg.de
SUMMARY:Kletterturm Gruppe 1
DESCRIPTION:Klettern im Turm
URL:https://www.dav-hesselberg.de/termin/kletterturm-gruppe-1-155/
LOCATION:Kletterturm Sektion Hesselberg des DAV e.V.\, 91572 Bechhofen\, Deutschland
CATEGORIES:Klettern & Bouldern
END:VEVENT
BEGIN:VEVENT
DTSTART;TZID=Europe/Berlin:20260317T190000
DTEND;TZID=Europe/Berlin:20260317T200000
DTSTAMP:20260424T025517
CREATED:20251218T182034Z
LAST-MODIFIED:20251218T182034Z
UID:59456-1773774000-1773777600@www.dav-hesselberg.de
SUMMARY:Kletterturm Gruppe 2
DESCRIPTION:Klettern im Turm
URL:https://www.dav-hesselberg.de/termin/kletterturm-gruppe-2-155/
LOCATION:Kletterturm Sektion Hesselberg des DAV e.V.\, 91572 Bechhofen\, Deutschland
CATEGORIES:Klettern & Bouldern
END:VEVENT
BEGIN:VEVENT
DTSTART;TZID=Europe/Berlin:20260319T180000
DTEND;TZID=Europe/Berlin:20260319T190000
DTSTAMP:20260424T025517
CREATED:20251219T000609Z
LAST-MODIFIED:20251219T000609Z
UID:59466-1773943200-1773946800@www.dav-hesselberg.de
SUMMARY:Kletterturm Gruppe 3
DESCRIPTION:Klettern im Turm
URL:https://www.dav-hesselberg.de/termin/kletterturm-gruppe-3-153/
LOCATION:Kletterturm Sektion Hesselberg des DAV e.V.\, 91572 Bechhofen\, Deutschland
CATEGORIES:Klettern & Bouldern
END:VEVENT
BEGIN:VEVENT
DTSTART;TZID=Europe/Berlin:20260319T183000
DTEND;TZID=Europe/Berlin:20260319T193000
DTSTAMP:20260424T025517
CREATED:20251219T223442Z
LAST-MODIFIED:20251219T223442Z
UID:59493-1773945000-1773948600@www.dav-hesselberg.de
SUMMARY:Lauftreff
DESCRIPTION:Lauftreff
URL:https://www.dav-hesselberg.de/termin/lauftreff-720/
LOCATION:Hallenbad\, Pestalozzistraße 24\, 91572 Bechhofen\, Deutschland
CATEGORIES:Laufen
END:VEVENT
BEGIN:VEVENT
DTSTART;TZID=Europe/Berlin:20260319T190000
DTEND;TZID=Europe/Berlin:20260319T200000
DTSTAMP:20260424T025517
CREATED:20251219T000609Z
LAST-MODIFIED:20251219T000609Z
UID:59467-1773946800-1773950400@www.dav-hesselberg.de
SUMMARY:Kletterturm Gruppe 4
DESCRIPTION:Klettern im Turm
URL:https://www.dav-hesselberg.de/termin/kletterturm-gruppe-4-152/
LOCATION:Kletterturm Sektion Hesselberg des DAV e.V.\, 91572 Bechhofen\, Deutschland
CATEGORIES:Klettern & Bouldern
END:VEVENT
BEGIN:VEVENT
DTSTART;TZID=Europe/Berlin:20260319T190000
DTEND;TZID=Europe/Berlin:20260319T200000
DTSTAMP:20260424T025517
CREATED:20251219T210440Z
LAST-MODIFIED:20251219T210440Z
UID:59484-1773946800-1773950400@www.dav-hesselberg.de
SUMMARY:Ski- und Fitness-Gymnastik
DESCRIPTION:Ski-Gymnastik
URL:https://www.dav-hesselberg.de/termin/ski-und-fitness-gymnastik-37/
LOCATION:TSV Bechhofen Turnabteilung\, Pestalozzistraße\, 91572 Bechhofen\, Deutschland
CATEGORIES:Wintersport
END:VEVENT
BEGIN:VEVENT
DTSTART;TZID=Europe/Berlin:20260321T140000
DTEND;TZID=Europe/Berlin:20260321T170000
DTSTAMP:20260424T025517
CREATED:20251221T221939Z
LAST-MODIFIED:20251221T221939Z
UID:59537-1774101600-1774112400@www.dav-hesselberg.de
SUMMARY:MTB-Treff
DESCRIPTION:www.dav-hesselberg.de/gruppen-treffs/mtb-treff
URL:https://www.dav-hesselberg.de/termin/mtb-treff-366/
LOCATION:Pavillon am Marktplatz\, Bechhofen
CATEGORIES:MTB
END:VEVENT
END:VCALENDAR