BEGIN:VCALENDAR
VERSION:2.0
PRODID:-//Sektion Hesselberg des DAV e. V. - ECPv6.15.20//NONSGML v1.0//EN
CALSCALE:GREGORIAN
METHOD:PUBLISH
X-WR-CALNAME:Sektion Hesselberg des DAV e. V.
X-ORIGINAL-URL:https://www.dav-hesselberg.de
X-WR-CALDESC:Veranstaltungen für Sektion Hesselberg des DAV e. V.
REFRESH-INTERVAL;VALUE=DURATION:PT1H
X-Robots-Tag:noindex
X-PUBLISHED-TTL:PT1H
BEGIN:VTIMEZONE
TZID:Europe/Berlin
BEGIN:DAYLIGHT
TZOFFSETFROM:+0100
TZOFFSETTO:+0200
TZNAME:CEST
DTSTART:20250330T010000
END:DAYLIGHT
BEGIN:STANDARD
TZOFFSETFROM:+0200
TZOFFSETTO:+0100
TZNAME:CET
DTSTART:20251026T010000
END:STANDARD
BEGIN:DAYLIGHT
TZOFFSETFROM:+0100
TZOFFSETTO:+0200
TZNAME:CEST
DTSTART:20260329T010000
END:DAYLIGHT
BEGIN:STANDARD
TZOFFSETFROM:+0200
TZOFFSETTO:+0100
TZNAME:CET
DTSTART:20261025T010000
END:STANDARD
BEGIN:DAYLIGHT
TZOFFSETFROM:+0100
TZOFFSETTO:+0200
TZNAME:CEST
DTSTART:20270328T010000
END:DAYLIGHT
BEGIN:STANDARD
TZOFFSETFROM:+0200
TZOFFSETTO:+0100
TZNAME:CET
DTSTART:20271031T010000
END:STANDARD
END:VTIMEZONE
BEGIN:VEVENT
DTSTART;TZID=Europe/Berlin:20260124T140000
DTEND;TZID=Europe/Berlin:20260124T170000
DTSTAMP:20260424T050054
CREATED:20251026T143440Z
LAST-MODIFIED:20251026T143440Z
UID:57949-1769263200-1769274000@www.dav-hesselberg.de
SUMMARY:MTB-Treff
DESCRIPTION:www.dav-hesselberg.de/gruppen-treffs/mtb-treff
URL:https://www.dav-hesselberg.de/termin/mtb-treff-358/
LOCATION:Pavillon am Marktplatz\, Bechhofen
CATEGORIES:MTB
END:VEVENT
BEGIN:VEVENT
DTSTART;TZID=Europe/Berlin:20260124T150000
DTEND;TZID=Europe/Berlin:20260124T160000
DTSTAMP:20260424T050054
CREATED:20251031T161941Z
LAST-MODIFIED:20251031T161941Z
UID:58125-1769266800-1769270400@www.dav-hesselberg.de
SUMMARY:Lauftreff
DESCRIPTION:Lauftreff
URL:https://www.dav-hesselberg.de/termin/lauftreff-698/
LOCATION:Hallenbad\, Pestalozzistraße 24\, 91572 Bechhofen\, Deutschland
CATEGORIES:Laufen
END:VEVENT
BEGIN:VEVENT
DTSTART;TZID=Europe/Berlin:20260126T183000
DTEND;TZID=Europe/Berlin:20260126T193000
DTSTAMP:20260424T050054
CREATED:20251028T160439Z
LAST-MODIFIED:20251028T160439Z
UID:58016-1769452200-1769455800@www.dav-hesselberg.de
SUMMARY:Lauftreff
DESCRIPTION:Lauftreff
URL:https://www.dav-hesselberg.de/termin/lauftreff-686/
LOCATION:Hallenbad\, Pestalozzistraße 24\, 91572 Bechhofen\, Deutschland
CATEGORIES:Laufen
END:VEVENT
BEGIN:VEVENT
DTSTART;TZID=Europe/Berlin:20260127T090000
DTEND;TZID=Europe/Berlin:20260127T100000
DTSTAMP:20260424T050054
CREATED:20251029T151940Z
LAST-MODIFIED:20251029T151940Z
UID:58038-1769504400-1769508000@www.dav-hesselberg.de
SUMMARY:Nordic Walking
DESCRIPTION:Nordic Walking
URL:https://www.dav-hesselberg.de/termin/nordic-walking-284/
LOCATION:Hallenbad\, Pestalozzistraße 24\, 91572 Bechhofen\, Deutschland
CATEGORIES:Nordic Walking
END:VEVENT
BEGIN:VEVENT
DTSTART;TZID=Europe/Berlin:20260127T180000
DTEND;TZID=Europe/Berlin:20260127T190000
DTSTAMP:20260424T050054
CREATED:20251029T141942Z
LAST-MODIFIED:20251029T141942Z
UID:58033-1769536800-1769540400@www.dav-hesselberg.de
SUMMARY:Kletterturm Gruppe 1
DESCRIPTION:Klettern im Turm
URL:https://www.dav-hesselberg.de/termin/kletterturm-gruppe-1-148/
LOCATION:Kletterturm Sektion Hesselberg des DAV e.V.\, 91572 Bechhofen\, Deutschland
CATEGORIES:Klettern & Bouldern
END:VEVENT
BEGIN:VEVENT
DTSTART;TZID=Europe/Berlin:20260127T190000
DTEND;TZID=Europe/Berlin:20260127T200000
DTSTAMP:20260424T050054
CREATED:20251029T141942Z
LAST-MODIFIED:20251029T141942Z
UID:58034-1769540400-1769544000@www.dav-hesselberg.de
SUMMARY:Kletterturm Gruppe 2
DESCRIPTION:Klettern im Turm
URL:https://www.dav-hesselberg.de/termin/kletterturm-gruppe-2-148/
LOCATION:Kletterturm Sektion Hesselberg des DAV e.V.\, 91572 Bechhofen\, Deutschland
CATEGORIES:Klettern & Bouldern
END:VEVENT
BEGIN:VEVENT
DTSTART;TZID=Europe/Berlin:20260129T180000
DTEND;TZID=Europe/Berlin:20260129T190000
DTSTAMP:20260424T050054
CREATED:20251031T143443Z
LAST-MODIFIED:20251031T143443Z
UID:58103-1769709600-1769713200@www.dav-hesselberg.de
SUMMARY:Kletterturm Gruppe 3
DESCRIPTION:Klettern im Turm
URL:https://www.dav-hesselberg.de/termin/kletterturm-gruppe-3-146/
LOCATION:Kletterturm Sektion Hesselberg des DAV e.V.\, 91572 Bechhofen\, Deutschland
CATEGORIES:Klettern & Bouldern
END:VEVENT
BEGIN:VEVENT
DTSTART;TZID=Europe/Berlin:20260129T183000
DTEND;TZID=Europe/Berlin:20260129T193000
DTSTAMP:20260424T050054
CREATED:20251031T161941Z
LAST-MODIFIED:20251031T161941Z
UID:58126-1769711400-1769715000@www.dav-hesselberg.de
SUMMARY:Lauftreff
DESCRIPTION:Lauftreff
URL:https://www.dav-hesselberg.de/termin/lauftreff-699/
LOCATION:Hallenbad\, Pestalozzistraße 24\, 91572 Bechhofen\, Deutschland
CATEGORIES:Laufen
END:VEVENT
BEGIN:VEVENT
DTSTART;TZID=Europe/Berlin:20260129T190000
DTEND;TZID=Europe/Berlin:20260129T200000
DTSTAMP:20260424T050054
CREATED:20251031T020439Z
LAST-MODIFIED:20251031T020439Z
UID:58080-1769713200-1769716800@www.dav-hesselberg.de
SUMMARY:Ski- und Fitness-Gymnastik
DESCRIPTION:Ski-Gymnastik
URL:https://www.dav-hesselberg.de/termin/ski-und-fitness-gymnastik-30/
LOCATION:TSV Bechhofen Turnabteilung\, Pestalozzistraße\, 91572 Bechhofen\, Deutschland
CATEGORIES:Wintersport
END:VEVENT
BEGIN:VEVENT
DTSTART;TZID=Europe/Berlin:20260129T190000
DTEND;TZID=Europe/Berlin:20260129T200000
DTSTAMP:20260424T050054
CREATED:20251031T143444Z
LAST-MODIFIED:20251031T143444Z
UID:58104-1769713200-1769716800@www.dav-hesselberg.de
SUMMARY:Kletterturm Gruppe 4
DESCRIPTION:Klettern im Turm
URL:https://www.dav-hesselberg.de/termin/kletterturm-gruppe-4-145/
LOCATION:Kletterturm Sektion Hesselberg des DAV e.V.\, 91572 Bechhofen\, Deutschland
CATEGORIES:Klettern & Bouldern
END:VEVENT
BEGIN:VEVENT
DTSTART;VALUE=DATE:20260131
DTEND;VALUE=DATE:20260201
DTSTAMP:20260424T050054
CREATED:20251107T213438Z
LAST-MODIFIED:20251107T213438Z
UID:58343-1769817600-1769903999@www.dav-hesselberg.de
SUMMARY:Tagesskifahrt
DESCRIPTION:Tagesskifahrt
URL:https://www.dav-hesselberg.de/termin/tagesskifahrt-4/
LOCATION:Steinplatte\, 6384 Waidring\, Österreich
CATEGORIES:Wintersport
END:VEVENT
BEGIN:VEVENT
DTSTART;TZID=Europe/Berlin:20260131T140000
DTEND;TZID=Europe/Berlin:20260131T170000
DTSTAMP:20260424T050054
CREATED:20251102T144940Z
LAST-MODIFIED:20251102T144940Z
UID:58176-1769868000-1769878800@www.dav-hesselberg.de
SUMMARY:MTB-Treff
DESCRIPTION:www.dav-hesselberg.de/gruppen-treffs/mtb-treff
URL:https://www.dav-hesselberg.de/termin/mtb-treff-359/
LOCATION:Pavillon am Marktplatz\, Bechhofen
CATEGORIES:MTB
END:VEVENT
BEGIN:VEVENT
DTSTART;TZID=Europe/Berlin:20260131T150000
DTEND;TZID=Europe/Berlin:20260131T160000
DTSTAMP:20260424T050054
CREATED:20251102T163439Z
LAST-MODIFIED:20251102T163439Z
UID:58182-1769871600-1769875200@www.dav-hesselberg.de
SUMMARY:Lauftreff
DESCRIPTION:Lauftreff
URL:https://www.dav-hesselberg.de/termin/lauftreff-700/
LOCATION:Hallenbad\, Pestalozzistraße 24\, 91572 Bechhofen\, Deutschland
CATEGORIES:Laufen
END:VEVENT
END:VCALENDAR