BEGIN:VCALENDAR
VERSION:2.0
PRODID:-//Sektion Hesselberg des DAV e. V. - ECPv6.15.20//NONSGML v1.0//EN
CALSCALE:GREGORIAN
METHOD:PUBLISH
X-WR-CALNAME:Sektion Hesselberg des DAV e. V.
X-ORIGINAL-URL:https://www.dav-hesselberg.de
X-WR-CALDESC:Veranstaltungen für Sektion Hesselberg des DAV e. V.
REFRESH-INTERVAL;VALUE=DURATION:PT1H
X-Robots-Tag:noindex
X-PUBLISHED-TTL:PT1H
BEGIN:VTIMEZONE
TZID:Europe/Berlin
BEGIN:DAYLIGHT
TZOFFSETFROM:+0100
TZOFFSETTO:+0200
TZNAME:CEST
DTSTART:20250330T010000
END:DAYLIGHT
BEGIN:STANDARD
TZOFFSETFROM:+0200
TZOFFSETTO:+0100
TZNAME:CET
DTSTART:20251026T010000
END:STANDARD
BEGIN:DAYLIGHT
TZOFFSETFROM:+0100
TZOFFSETTO:+0200
TZNAME:CEST
DTSTART:20260329T010000
END:DAYLIGHT
BEGIN:STANDARD
TZOFFSETFROM:+0200
TZOFFSETTO:+0100
TZNAME:CET
DTSTART:20261025T010000
END:STANDARD
BEGIN:DAYLIGHT
TZOFFSETFROM:+0100
TZOFFSETTO:+0200
TZNAME:CEST
DTSTART:20270328T010000
END:DAYLIGHT
BEGIN:STANDARD
TZOFFSETFROM:+0200
TZOFFSETTO:+0100
TZNAME:CET
DTSTART:20271031T010000
END:STANDARD
END:VTIMEZONE
BEGIN:VEVENT
DTSTART;TZID=Europe/Berlin:20260623T180000
DTEND;TZID=Europe/Berlin:20260623T190000
DTSTAMP:20260424T025419
CREATED:20260325T063100Z
LAST-MODIFIED:20260325T063100Z
UID:62090-1782237600-1782241200@www.dav-hesselberg.de
SUMMARY:Kletterturm Gruppe 1
DESCRIPTION:Klettern im Turm
URL:https://www.dav-hesselberg.de/termin/kletterturm-gruppe-1-168/
LOCATION:Kletterturm Sektion Hesselberg des DAV e.V.\, 91572 Bechhofen\, Deutschland
CATEGORIES:Klettern & Bouldern
END:VEVENT
BEGIN:VEVENT
DTSTART;TZID=Europe/Berlin:20260623T190000
DTEND;TZID=Europe/Berlin:20260623T200000
DTSTAMP:20260424T025419
CREATED:20260325T063100Z
LAST-MODIFIED:20260325T063100Z
UID:62091-1782241200-1782244800@www.dav-hesselberg.de
SUMMARY:Kletterturm Gruppe 2
DESCRIPTION:Klettern im Turm
URL:https://www.dav-hesselberg.de/termin/kletterturm-gruppe-2-168/
LOCATION:Kletterturm Sektion Hesselberg des DAV e.V.\, 91572 Bechhofen\, Deutschland
CATEGORIES:Klettern & Bouldern
END:VEVENT
BEGIN:VEVENT
DTSTART;TZID=Europe/Berlin:20260625T180000
DTEND;TZID=Europe/Berlin:20260625T190000
DTSTAMP:20260424T025419
CREATED:20260327T063109Z
LAST-MODIFIED:20260327T063109Z
UID:62136-1782410400-1782414000@www.dav-hesselberg.de
SUMMARY:Kletterturm Gruppe 3
DESCRIPTION:Klettern im Turm
URL:https://www.dav-hesselberg.de/termin/kletterturm-gruppe-3-165/
LOCATION:Kletterturm Sektion Hesselberg des DAV e.V.\, 91572 Bechhofen\, Deutschland
CATEGORIES:Klettern & Bouldern
END:VEVENT
BEGIN:VEVENT
DTSTART;TZID=Europe/Berlin:20260625T183000
DTEND;TZID=Europe/Berlin:20260625T193000
DTSTAMP:20260424T025419
CREATED:20260327T061559Z
LAST-MODIFIED:20260327T061559Z
UID:62133-1782412200-1782415800@www.dav-hesselberg.de
SUMMARY:Lauftreff
DESCRIPTION:Lauftreff
URL:https://www.dav-hesselberg.de/termin/lauftreff-762/
LOCATION:Hallenbad\, Pestalozzistraße 24\, 91572 Bechhofen\, Deutschland
CATEGORIES:Laufen
END:VEVENT
BEGIN:VEVENT
DTSTART;TZID=Europe/Berlin:20260625T190000
DTEND;TZID=Europe/Berlin:20260625T200000
DTSTAMP:20260424T025419
CREATED:20260327T054557Z
LAST-MODIFIED:20260327T054557Z
UID:62131-1782414000-1782417600@www.dav-hesselberg.de
SUMMARY:Lauf10! Training
DESCRIPTION:www.dav-hesselberg.de/kurse-touren/lauf10/
URL:https://www.dav-hesselberg.de/termin/lauf10-training-139/
LOCATION:Hallenbad\, Pestalozzistraße 24\, 91572 Bechhofen\, Deutschland
CATEGORIES:Lauf10!
END:VEVENT
BEGIN:VEVENT
DTSTART;TZID=Europe/Berlin:20260625T190000
DTEND;TZID=Europe/Berlin:20260625T200000
DTSTAMP:20260424T025419
CREATED:20260327T063109Z
LAST-MODIFIED:20260327T063109Z
UID:62135-1782414000-1782417600@www.dav-hesselberg.de
SUMMARY:Kletterturm Gruppe 4
DESCRIPTION:Klettern im Turm
URL:https://www.dav-hesselberg.de/termin/kletterturm-gruppe-4-164/
LOCATION:Kletterturm Sektion Hesselberg des DAV e.V.\, 91572 Bechhofen\, Deutschland
CATEGORIES:Klettern & Bouldern
END:VEVENT
BEGIN:VEVENT
DTSTART;TZID=Europe/Berlin:20260627T140000
DTEND;TZID=Europe/Berlin:20260627T170000
DTSTAMP:20260424T025419
CREATED:20260329T073057Z
LAST-MODIFIED:20260329T073057Z
UID:62183-1782568800-1782579600@www.dav-hesselberg.de
SUMMARY:MTB-Treff
DESCRIPTION:www.dav-hesselberg.de/gruppen-treffs/mtb-treff
URL:https://www.dav-hesselberg.de/termin/mtb-treff-380/
LOCATION:Pavillon am Marktplatz\, Bechhofen
CATEGORIES:MTB
END:VEVENT
BEGIN:VEVENT
DTSTART;TZID=Europe/Berlin:20260627T150000
DTEND;TZID=Europe/Berlin:20260627T160000
DTSTAMP:20260424T025419
CREATED:20260329T061558Z
LAST-MODIFIED:20260329T061558Z
UID:62179-1782572400-1782576000@www.dav-hesselberg.de
SUMMARY:Lauftreff
DESCRIPTION:Lauftreff
URL:https://www.dav-hesselberg.de/termin/lauftreff-763/
LOCATION:Hallenbad\, Pestalozzistraße 24\, 91572 Bechhofen\, Deutschland
CATEGORIES:Laufen
END:VEVENT
BEGIN:VEVENT
DTSTART;TZID=Europe/Berlin:20260627T160000
DTEND;TZID=Europe/Berlin:20260627T170000
DTSTAMP:20260424T025419
CREATED:20260329T060108Z
LAST-MODIFIED:20260329T060108Z
UID:62177-1782576000-1782579600@www.dav-hesselberg.de
SUMMARY:Lauf10! Training
DESCRIPTION:www.dav-hesselberg.de/kurse-touren/lauf10/
URL:https://www.dav-hesselberg.de/termin/lauf10-training-140/
LOCATION:Hallenbad\, Pestalozzistraße 24\, 91572 Bechhofen\, Deutschland
CATEGORIES:Lauf10!
END:VEVENT
BEGIN:VEVENT
DTSTART;TZID=Europe/Berlin:20260629T183000
DTEND;TZID=Europe/Berlin:20260629T193000
DTSTAMP:20260424T025419
CREATED:20260331T061558Z
LAST-MODIFIED:20260331T061558Z
UID:62224-1782757800-1782761400@www.dav-hesselberg.de
SUMMARY:Lauftreff
DESCRIPTION:Lauftreff
URL:https://www.dav-hesselberg.de/termin/lauftreff-764/
LOCATION:Hallenbad\, Pestalozzistraße 24\, 91572 Bechhofen\, Deutschland
CATEGORIES:Laufen
END:VEVENT
BEGIN:VEVENT
DTSTART;TZID=Europe/Berlin:20260629T190000
DTEND;TZID=Europe/Berlin:20260629T200000
DTSTAMP:20260424T025419
CREATED:20260331T060057Z
LAST-MODIFIED:20260331T060057Z
UID:62222-1782759600-1782763200@www.dav-hesselberg.de
SUMMARY:Lauf10! Training
DESCRIPTION:www.dav-hesselberg.de/kurse-touren/lauf10/
URL:https://www.dav-hesselberg.de/termin/lauf10-training-141/
LOCATION:Hallenbad\, Pestalozzistraße 24\, 91572 Bechhofen\, Deutschland
CATEGORIES:Lauf10!
END:VEVENT
BEGIN:VEVENT
DTSTART;TZID=Europe/Berlin:20260630T090000
DTEND;TZID=Europe/Berlin:20260630T100000
DTSTAMP:20260424T025419
CREATED:20260401T073103Z
LAST-MODIFIED:20260401T073103Z
UID:62249-1782810000-1782813600@www.dav-hesselberg.de
SUMMARY:Nordic Walking
DESCRIPTION:Nordic Walking
URL:https://www.dav-hesselberg.de/termin/nordic-walking-306/
LOCATION:Hallenbad\, Pestalozzistraße 24\, 91572 Bechhofen\, Deutschland
CATEGORIES:Nordic Walking
END:VEVENT
BEGIN:VEVENT
DTSTART;TZID=Europe/Berlin:20260630T180000
DTEND;TZID=Europe/Berlin:20260630T190000
DTSTAMP:20260424T025419
CREATED:20260401T064647Z
LAST-MODIFIED:20260401T064647Z
UID:62247-1782842400-1782846000@www.dav-hesselberg.de
SUMMARY:Kletterturm Gruppe 1
DESCRIPTION:Klettern im Turm
URL:https://www.dav-hesselberg.de/termin/kletterturm-gruppe-1-169/
LOCATION:Kletterturm Sektion Hesselberg des DAV e.V.\, 91572 Bechhofen\, Deutschland
CATEGORIES:Klettern & Bouldern
END:VEVENT
BEGIN:VEVENT
DTSTART;TZID=Europe/Berlin:20260630T190000
DTEND;TZID=Europe/Berlin:20260630T200000
DTSTAMP:20260424T025419
CREATED:20260401T064646Z
LAST-MODIFIED:20260401T064646Z
UID:62246-1782846000-1782849600@www.dav-hesselberg.de
SUMMARY:Kletterturm Gruppe 2
DESCRIPTION:Klettern im Turm
URL:https://www.dav-hesselberg.de/termin/kletterturm-gruppe-2-169/
LOCATION:Kletterturm Sektion Hesselberg des DAV e.V.\, 91572 Bechhofen\, Deutschland
CATEGORIES:Klettern & Bouldern
END:VEVENT
BEGIN:VEVENT
DTSTART;TZID=Europe/Berlin:20260702T180000
DTEND;TZID=Europe/Berlin:20260702T190000
DTSTAMP:20260424T025419
CREATED:20260403T071649Z
LAST-MODIFIED:20260403T071649Z
UID:62341-1783015200-1783018800@www.dav-hesselberg.de
SUMMARY:Kletterturm Gruppe 3
DESCRIPTION:Klettern im Turm
URL:https://www.dav-hesselberg.de/termin/kletterturm-gruppe-3-166/
LOCATION:Kletterturm Sektion Hesselberg des DAV e.V.\, 91572 Bechhofen\, Deutschland
CATEGORIES:Klettern & Bouldern
END:VEVENT
BEGIN:VEVENT
DTSTART;TZID=Europe/Berlin:20260702T183000
DTEND;TZID=Europe/Berlin:20260702T193000
DTSTAMP:20260424T025419
CREATED:20260403T061649Z
LAST-MODIFIED:20260403T061649Z
UID:62339-1783017000-1783020600@www.dav-hesselberg.de
SUMMARY:Lauftreff
DESCRIPTION:Lauftreff
URL:https://www.dav-hesselberg.de/termin/lauftreff-765/
LOCATION:Hallenbad\, Pestalozzistraße 24\, 91572 Bechhofen\, Deutschland
CATEGORIES:Laufen
END:VEVENT
BEGIN:VEVENT
DTSTART;TZID=Europe/Berlin:20260702T190000
DTEND;TZID=Europe/Berlin:20260702T200000
DTSTAMP:20260424T025419
CREATED:20260403T061648Z
LAST-MODIFIED:20260403T061648Z
UID:62338-1783018800-1783022400@www.dav-hesselberg.de
SUMMARY:Lauf10! Training
DESCRIPTION:www.dav-hesselberg.de/kurse-touren/lauf10/
URL:https://www.dav-hesselberg.de/termin/lauf10-training-142/
LOCATION:Hallenbad\, Pestalozzistraße 24\, 91572 Bechhofen\, Deutschland
CATEGORIES:Lauf10!
END:VEVENT
BEGIN:VEVENT
DTSTART;TZID=Europe/Berlin:20260702T190000
DTEND;TZID=Europe/Berlin:20260702T200000
DTSTAMP:20260424T025419
CREATED:20260403T071650Z
LAST-MODIFIED:20260403T071650Z
UID:62342-1783018800-1783022400@www.dav-hesselberg.de
SUMMARY:Kletterturm Gruppe 4
DESCRIPTION:Klettern im Turm
URL:https://www.dav-hesselberg.de/termin/kletterturm-gruppe-4-165/
LOCATION:Kletterturm Sektion Hesselberg des DAV e.V.\, 91572 Bechhofen\, Deutschland
CATEGORIES:Klettern & Bouldern
END:VEVENT
BEGIN:VEVENT
DTSTART;VALUE=DATE:20260704
DTEND;VALUE=DATE:20260705
DTSTAMP:20260424T025419
CREATED:20260417T210057Z
LAST-MODIFIED:20260417T210057Z
UID:62691-1783123200-1783209599@www.dav-hesselberg.de
SUMMARY:Jugendvollversammlung + Zelten am Kletterturm
DESCRIPTION:
URL:https://www.dav-hesselberg.de/termin/jugendvollversammlung-zelten-am-kletterturm/
LOCATION:Kletterturm Sektion Hesselberg des DAV e.V.\, 91572 Bechhofen\, Deutschland
CATEGORIES:Jugend
END:VEVENT
BEGIN:VEVENT
DTSTART;TZID=Europe/Berlin:20260704T100000
DTEND;TZID=Europe/Berlin:20260704T120000
DTSTAMP:20260424T025419
CREATED:20260405T083146Z
LAST-MODIFIED:20260405T083146Z
UID:62391-1783159200-1783166400@www.dav-hesselberg.de
SUMMARY:MTB4Kids
DESCRIPTION:MTB4Kids
URL:https://www.dav-hesselberg.de/termin/mtb4kids-11/
LOCATION:Hallenbad\, Pestalozzistraße 24\, 91572 Bechhofen\, Deutschland
CATEGORIES:Jugend
END:VEVENT
BEGIN:VEVENT
DTSTART;TZID=Europe/Berlin:20260704T140000
DTEND;TZID=Europe/Berlin:20260704T170000
DTSTAMP:20260424T025420
CREATED:20260405T081710Z
LAST-MODIFIED:20260405T081710Z
UID:62389-1783173600-1783184400@www.dav-hesselberg.de
SUMMARY:MTB-Treff
DESCRIPTION:www.dav-hesselberg.de/gruppen-treffs/mtb-treff
URL:https://www.dav-hesselberg.de/termin/mtb-treff-381/
LOCATION:Pavillon am Marktplatz\, Bechhofen
CATEGORIES:MTB
END:VEVENT
BEGIN:VEVENT
DTSTART;TZID=Europe/Berlin:20260704T150000
DTEND;TZID=Europe/Berlin:20260704T160000
DTSTAMP:20260424T025420
CREATED:20260405T063223Z
LAST-MODIFIED:20260405T063223Z
UID:62383-1783177200-1783180800@www.dav-hesselberg.de
SUMMARY:Lauftreff
DESCRIPTION:Lauftreff
URL:https://www.dav-hesselberg.de/termin/lauftreff-766/
LOCATION:Hallenbad\, Pestalozzistraße 24\, 91572 Bechhofen\, Deutschland
CATEGORIES:Laufen
END:VEVENT
BEGIN:VEVENT
DTSTART;TZID=Europe/Berlin:20260704T160000
DTEND;TZID=Europe/Berlin:20260704T170000
DTSTAMP:20260424T025420
CREATED:20260405T064737Z
LAST-MODIFIED:20260405T064737Z
UID:62385-1783180800-1783184400@www.dav-hesselberg.de
SUMMARY:Lauf10! Training
DESCRIPTION:www.dav-hesselberg.de/kurse-touren/lauf10/
URL:https://www.dav-hesselberg.de/termin/lauf10-training-143/
LOCATION:Hallenbad\, Pestalozzistraße 24\, 91572 Bechhofen\, Deutschland
CATEGORIES:Lauf10!
END:VEVENT
BEGIN:VEVENT
DTSTART;TZID=Europe/Berlin:20260705T090000
DTEND;TZID=Europe/Berlin:20260705T170000
DTSTAMP:20260424T025420
CREATED:20260406T061652Z
LAST-MODIFIED:20260406T061652Z
UID:62407-1783242000-1783270800@www.dav-hesselberg.de
SUMMARY:Wanderung oder Radtour
DESCRIPTION:Wandern
URL:https://www.dav-hesselberg.de/termin/wanderung-oder-radtour/
CATEGORIES:Wandern
END:VEVENT
BEGIN:VEVENT
DTSTART;TZID=Europe/Berlin:20260706T183000
DTEND;TZID=Europe/Berlin:20260706T193000
DTSTAMP:20260424T025420
CREATED:20260407T063139Z
LAST-MODIFIED:20260407T063139Z
UID:62430-1783362600-1783366200@www.dav-hesselberg.de
SUMMARY:Lauftreff
DESCRIPTION:Lauftreff
URL:https://www.dav-hesselberg.de/termin/lauftreff-767/
LOCATION:Hallenbad\, Pestalozzistraße 24\, 91572 Bechhofen\, Deutschland
CATEGORIES:Laufen
END:VEVENT
BEGIN:VEVENT
DTSTART;TZID=Europe/Berlin:20260706T190000
DTEND;TZID=Europe/Berlin:20260706T200000
DTSTAMP:20260424T025420
CREATED:20260407T070139Z
LAST-MODIFIED:20260407T070139Z
UID:62432-1783364400-1783368000@www.dav-hesselberg.de
SUMMARY:Lauf10! Training
DESCRIPTION:www.dav-hesselberg.de/kurse-touren/lauf10/
URL:https://www.dav-hesselberg.de/termin/lauf10-training-144/
LOCATION:Hallenbad\, Pestalozzistraße 24\, 91572 Bechhofen\, Deutschland
CATEGORIES:Lauf10!
END:VEVENT
BEGIN:VEVENT
DTSTART;TZID=Europe/Berlin:20260707T090000
DTEND;TZID=Europe/Berlin:20260707T100000
DTSTAMP:20260424T025420
CREATED:20260408T074651Z
LAST-MODIFIED:20260408T074651Z
UID:62454-1783414800-1783418400@www.dav-hesselberg.de
SUMMARY:Nordic Walking
DESCRIPTION:Nordic Walking
URL:https://www.dav-hesselberg.de/termin/nordic-walking-307/
LOCATION:Hallenbad\, Pestalozzistraße 24\, 91572 Bechhofen\, Deutschland
CATEGORIES:Nordic Walking
END:VEVENT
BEGIN:VEVENT
DTSTART;TZID=Europe/Berlin:20260707T180000
DTEND;TZID=Europe/Berlin:20260707T190000
DTSTAMP:20260424T025420
CREATED:20260408T080142Z
LAST-MODIFIED:20260408T080142Z
UID:62457-1783447200-1783450800@www.dav-hesselberg.de
SUMMARY:Kletterturm Gruppe 1
DESCRIPTION:Klettern im Turm
URL:https://www.dav-hesselberg.de/termin/kletterturm-gruppe-1-170/
LOCATION:Kletterturm Sektion Hesselberg des DAV e.V.\, 91572 Bechhofen\, Deutschland
CATEGORIES:Klettern & Bouldern
END:VEVENT
BEGIN:VEVENT
DTSTART;TZID=Europe/Berlin:20260707T190000
DTEND;TZID=Europe/Berlin:20260707T200000
DTSTAMP:20260424T025420
CREATED:20260408T080142Z
LAST-MODIFIED:20260408T080142Z
UID:62456-1783450800-1783454400@www.dav-hesselberg.de
SUMMARY:Kletterturm Gruppe 2
DESCRIPTION:Klettern im Turm
URL:https://www.dav-hesselberg.de/termin/kletterturm-gruppe-2-170/
LOCATION:Kletterturm Sektion Hesselberg des DAV e.V.\, 91572 Bechhofen\, Deutschland
CATEGORIES:Klettern & Bouldern
END:VEVENT
BEGIN:VEVENT
DTSTART;TZID=Europe/Berlin:20260709T180000
DTEND;TZID=Europe/Berlin:20260709T190000
DTSTAMP:20260424T025420
CREATED:20260410T081559Z
LAST-MODIFIED:20260410T081559Z
UID:62513-1783620000-1783623600@www.dav-hesselberg.de
SUMMARY:Kletterturm Gruppe 3
DESCRIPTION:Klettern im Turm
URL:https://www.dav-hesselberg.de/termin/kletterturm-gruppe-3-167/
LOCATION:Kletterturm Sektion Hesselberg des DAV e.V.\, 91572 Bechhofen\, Deutschland
CATEGORIES:Klettern & Bouldern
END:VEVENT
END:VCALENDAR