BEGIN:VCALENDAR
VERSION:2.0
PRODID:-//Sektion Hesselberg des DAV e. V. - ECPv6.15.20//NONSGML v1.0//EN
CALSCALE:GREGORIAN
METHOD:PUBLISH
X-ORIGINAL-URL:https://www.dav-hesselberg.de
X-WR-CALDESC:Veranstaltungen für Sektion Hesselberg des DAV e. V.
REFRESH-INTERVAL;VALUE=DURATION:PT1H
X-Robots-Tag:noindex
X-PUBLISHED-TTL:PT1H
BEGIN:VTIMEZONE
TZID:Europe/Berlin
BEGIN:DAYLIGHT
TZOFFSETFROM:+0100
TZOFFSETTO:+0200
TZNAME:CEST
DTSTART:20250330T010000
END:DAYLIGHT
BEGIN:STANDARD
TZOFFSETFROM:+0200
TZOFFSETTO:+0100
TZNAME:CET
DTSTART:20251026T010000
END:STANDARD
BEGIN:DAYLIGHT
TZOFFSETFROM:+0100
TZOFFSETTO:+0200
TZNAME:CEST
DTSTART:20260329T010000
END:DAYLIGHT
BEGIN:STANDARD
TZOFFSETFROM:+0200
TZOFFSETTO:+0100
TZNAME:CET
DTSTART:20261025T010000
END:STANDARD
BEGIN:DAYLIGHT
TZOFFSETFROM:+0100
TZOFFSETTO:+0200
TZNAME:CEST
DTSTART:20270328T010000
END:DAYLIGHT
BEGIN:STANDARD
TZOFFSETFROM:+0200
TZOFFSETTO:+0100
TZNAME:CET
DTSTART:20271031T010000
END:STANDARD
END:VTIMEZONE
BEGIN:VEVENT
DTSTART;VALUE=DATE:20260711
DTEND;VALUE=DATE:20260712
DTSTAMP:20260424T075805
CREATED:20260412T071558Z
LAST-MODIFIED:20260412T071558Z
UID:62555-1783728000-1783814399@www.dav-hesselberg.de
SUMMARY:Lauf10! Abschlusslauf
DESCRIPTION:www.dav-hesselberg.de/kurse-touren/lauf10/
URL:https://www.dav-hesselberg.de/termin/lauf10-abschlusslauf-3/
LOCATION:Wolnzach\, 85283 Wolnzach\, Deutschland
CATEGORIES:Lauf10!
END:VEVENT
BEGIN:VEVENT
DTSTART;TZID=Europe/Berlin:20260711T140000
DTEND;TZID=Europe/Berlin:20260711T170000
DTSTAMP:20260424T075805
CREATED:20260412T083100Z
LAST-MODIFIED:20260412T083100Z
UID:62559-1783778400-1783789200@www.dav-hesselberg.de
SUMMARY:MTB-Treff
DESCRIPTION:www.dav-hesselberg.de/gruppen-treffs/mtb-treff
URL:https://www.dav-hesselberg.de/termin/mtb-treff-382/
LOCATION:Pavillon am Marktplatz\, Bechhofen
CATEGORIES:MTB
END:VEVENT
BEGIN:VEVENT
DTSTART;TZID=Europe/Berlin:20260711T150000
DTEND;TZID=Europe/Berlin:20260711T160000
DTSTAMP:20260424T075805
CREATED:20260412T064600Z
LAST-MODIFIED:20260412T064600Z
UID:62553-1783782000-1783785600@www.dav-hesselberg.de
SUMMARY:Lauftreff
DESCRIPTION:Lauftreff
URL:https://www.dav-hesselberg.de/termin/lauftreff-769/
LOCATION:Hallenbad\, Pestalozzistraße 24\, 91572 Bechhofen\, Deutschland
CATEGORIES:Laufen
END:VEVENT
END:VCALENDAR