BEGIN:VCALENDAR
VERSION:2.0
PRODID:-//Sektion Hesselberg des DAV e. V. - ECPv6.15.20//NONSGML v1.0//EN
CALSCALE:GREGORIAN
METHOD:PUBLISH
X-WR-CALNAME:Sektion Hesselberg des DAV e. V.
X-ORIGINAL-URL:https://www.dav-hesselberg.de
X-WR-CALDESC:Veranstaltungen für Sektion Hesselberg des DAV e. V.
REFRESH-INTERVAL;VALUE=DURATION:PT1H
X-Robots-Tag:noindex
X-PUBLISHED-TTL:PT1H
BEGIN:VTIMEZONE
TZID:Europe/Berlin
BEGIN:DAYLIGHT
TZOFFSETFROM:+0100
TZOFFSETTO:+0200
TZNAME:CEST
DTSTART:20250330T010000
END:DAYLIGHT
BEGIN:STANDARD
TZOFFSETFROM:+0200
TZOFFSETTO:+0100
TZNAME:CET
DTSTART:20251026T010000
END:STANDARD
BEGIN:DAYLIGHT
TZOFFSETFROM:+0100
TZOFFSETTO:+0200
TZNAME:CEST
DTSTART:20260329T010000
END:DAYLIGHT
BEGIN:STANDARD
TZOFFSETFROM:+0200
TZOFFSETTO:+0100
TZNAME:CET
DTSTART:20261025T010000
END:STANDARD
BEGIN:DAYLIGHT
TZOFFSETFROM:+0100
TZOFFSETTO:+0200
TZNAME:CEST
DTSTART:20270328T010000
END:DAYLIGHT
BEGIN:STANDARD
TZOFFSETFROM:+0200
TZOFFSETTO:+0100
TZNAME:CET
DTSTART:20271031T010000
END:STANDARD
END:VTIMEZONE
BEGIN:VEVENT
DTSTART;TZID=Europe/Berlin:20260509T140000
DTEND;TZID=Europe/Berlin:20260509T170000
DTSTAMP:20260424T095530
CREATED:20260208T042032Z
LAST-MODIFIED:20260208T042032Z
UID:60845-1778335200-1778346000@www.dav-hesselberg.de
SUMMARY:MTB-Treff
DESCRIPTION:www.dav-hesselberg.de/gruppen-treffs/mtb-treff
URL:https://www.dav-hesselberg.de/termin/mtb-treff-373/
LOCATION:Pavillon am Marktplatz\, Bechhofen
CATEGORIES:MTB
END:VEVENT
BEGIN:VEVENT
DTSTART;TZID=Europe/Berlin:20260509T150000
DTEND;TZID=Europe/Berlin:20260509T160000
DTSTAMP:20260424T095530
CREATED:20260208T023059Z
LAST-MODIFIED:20260208T023059Z
UID:60841-1778338800-1778342400@www.dav-hesselberg.de
SUMMARY:Lauftreff
DESCRIPTION:Lauftreff
URL:https://www.dav-hesselberg.de/termin/lauftreff-742/
LOCATION:Hallenbad\, Pestalozzistraße 24\, 91572 Bechhofen\, Deutschland
CATEGORIES:Laufen
END:VEVENT
BEGIN:VEVENT
DTSTART;TZID=Europe/Berlin:20260509T160000
DTEND;TZID=Europe/Berlin:20260509T170000
DTSTAMP:20260424T095530
CREATED:20260226T161656Z
LAST-MODIFIED:20260226T161656Z
UID:61360-1778342400-1778346000@www.dav-hesselberg.de
SUMMARY:Lauf10! Training
DESCRIPTION:www.dav-hesselberg.de/kurse-touren/lauf10/
URL:https://www.dav-hesselberg.de/termin/lauf10-training-119/
LOCATION:Hallenbad\, Pestalozzistraße 24\, 91572 Bechhofen\, Deutschland
CATEGORIES:Lauf10!
END:VEVENT
END:VCALENDAR