BEGIN:VCALENDAR
VERSION:2.0
PRODID:-//Sektion Hesselberg des DAV e. V. - ECPv6.15.20//NONSGML v1.0//EN
CALSCALE:GREGORIAN
METHOD:PUBLISH
X-WR-CALNAME:Sektion Hesselberg des DAV e. V.
X-ORIGINAL-URL:https://www.dav-hesselberg.de
X-WR-CALDESC:Veranstaltungen für Sektion Hesselberg des DAV e. V.
REFRESH-INTERVAL;VALUE=DURATION:PT1H
X-Robots-Tag:noindex
X-PUBLISHED-TTL:PT1H
BEGIN:VTIMEZONE
TZID:Europe/Berlin
BEGIN:DAYLIGHT
TZOFFSETFROM:+0100
TZOFFSETTO:+0200
TZNAME:CEST
DTSTART:20250330T010000
END:DAYLIGHT
BEGIN:STANDARD
TZOFFSETFROM:+0200
TZOFFSETTO:+0100
TZNAME:CET
DTSTART:20251026T010000
END:STANDARD
BEGIN:DAYLIGHT
TZOFFSETFROM:+0100
TZOFFSETTO:+0200
TZNAME:CEST
DTSTART:20260329T010000
END:DAYLIGHT
BEGIN:STANDARD
TZOFFSETFROM:+0200
TZOFFSETTO:+0100
TZNAME:CET
DTSTART:20261025T010000
END:STANDARD
BEGIN:DAYLIGHT
TZOFFSETFROM:+0100
TZOFFSETTO:+0200
TZNAME:CEST
DTSTART:20270328T010000
END:DAYLIGHT
BEGIN:STANDARD
TZOFFSETFROM:+0200
TZOFFSETTO:+0100
TZNAME:CET
DTSTART:20271031T010000
END:STANDARD
END:VTIMEZONE
BEGIN:VEVENT
DTSTART;TZID=Europe/Berlin:20260317T090000
DTEND;TZID=Europe/Berlin:20260317T100000
DTSTAMP:20260424T044217
CREATED:20251218T192104Z
LAST-MODIFIED:20251218T192104Z
UID:59460-1773738000-1773741600@www.dav-hesselberg.de
SUMMARY:Nordic Walking
DESCRIPTION:Nordic Walking
URL:https://www.dav-hesselberg.de/termin/nordic-walking-291/
LOCATION:Hallenbad\, Pestalozzistraße 24\, 91572 Bechhofen\, Deutschland
CATEGORIES:Nordic Walking
END:VEVENT
BEGIN:VEVENT
DTSTART;TZID=Europe/Berlin:20260317T180000
DTEND;TZID=Europe/Berlin:20260317T190000
DTSTAMP:20260424T044217
CREATED:20251218T182034Z
LAST-MODIFIED:20251218T182034Z
UID:59457-1773770400-1773774000@www.dav-hesselberg.de
SUMMARY:Kletterturm Gruppe 1
DESCRIPTION:Klettern im Turm
URL:https://www.dav-hesselberg.de/termin/kletterturm-gruppe-1-155/
LOCATION:Kletterturm Sektion Hesselberg des DAV e.V.\, 91572 Bechhofen\, Deutschland
CATEGORIES:Klettern & Bouldern
END:VEVENT
BEGIN:VEVENT
DTSTART;TZID=Europe/Berlin:20260317T190000
DTEND;TZID=Europe/Berlin:20260317T200000
DTSTAMP:20260424T044217
CREATED:20251218T182034Z
LAST-MODIFIED:20251218T182034Z
UID:59456-1773774000-1773777600@www.dav-hesselberg.de
SUMMARY:Kletterturm Gruppe 2
DESCRIPTION:Klettern im Turm
URL:https://www.dav-hesselberg.de/termin/kletterturm-gruppe-2-155/
LOCATION:Kletterturm Sektion Hesselberg des DAV e.V.\, 91572 Bechhofen\, Deutschland
CATEGORIES:Klettern & Bouldern
END:VEVENT
END:VCALENDAR