BEGIN:VCALENDAR
VERSION:2.0
PRODID:-//Sektion Hesselberg des DAV e. V. - ECPv6.15.20//NONSGML v1.0//EN
CALSCALE:GREGORIAN
METHOD:PUBLISH
X-ORIGINAL-URL:https://www.dav-hesselberg.de
X-WR-CALDESC:Veranstaltungen für Sektion Hesselberg des DAV e. V.
REFRESH-INTERVAL;VALUE=DURATION:PT1H
X-Robots-Tag:noindex
X-PUBLISHED-TTL:PT1H
BEGIN:VTIMEZONE
TZID:Europe/Berlin
BEGIN:DAYLIGHT
TZOFFSETFROM:+0100
TZOFFSETTO:+0200
TZNAME:CEST
DTSTART:20250330T010000
END:DAYLIGHT
BEGIN:STANDARD
TZOFFSETFROM:+0200
TZOFFSETTO:+0100
TZNAME:CET
DTSTART:20251026T010000
END:STANDARD
BEGIN:DAYLIGHT
TZOFFSETFROM:+0100
TZOFFSETTO:+0200
TZNAME:CEST
DTSTART:20260329T010000
END:DAYLIGHT
BEGIN:STANDARD
TZOFFSETFROM:+0200
TZOFFSETTO:+0100
TZNAME:CET
DTSTART:20261025T010000
END:STANDARD
BEGIN:DAYLIGHT
TZOFFSETFROM:+0100
TZOFFSETTO:+0200
TZNAME:CEST
DTSTART:20270328T010000
END:DAYLIGHT
BEGIN:STANDARD
TZOFFSETFROM:+0200
TZOFFSETTO:+0100
TZNAME:CET
DTSTART:20271031T010000
END:STANDARD
END:VTIMEZONE
BEGIN:VEVENT
DTSTART;TZID=Europe/Berlin:20260219T183000
DTEND;TZID=Europe/Berlin:20260219T193000
DTSTAMP:20260424T050109
CREATED:20251121T171939Z
LAST-MODIFIED:20251121T171939Z
UID:58701-1771525800-1771529400@www.dav-hesselberg.de
SUMMARY:Lauftreff
DESCRIPTION:Lauftreff
URL:https://www.dav-hesselberg.de/termin/lauftreff-708/
LOCATION:Hallenbad\, Pestalozzistraße 24\, 91572 Bechhofen\, Deutschland
CATEGORIES:Laufen
END:VEVENT
BEGIN:VEVENT
DTSTART;TZID=Europe/Berlin:20260219T190000
DTEND;TZID=Europe/Berlin:20260219T200000
DTSTAMP:20260424T050109
CREATED:20251121T030442Z
LAST-MODIFIED:20251121T030442Z
UID:58687-1771527600-1771531200@www.dav-hesselberg.de
SUMMARY:Ski- und Fitness-Gymnastik
DESCRIPTION:Ski-Gymnastik
URL:https://www.dav-hesselberg.de/termin/ski-und-fitness-gymnastik-33/
LOCATION:TSV Bechhofen Turnabteilung\, Pestalozzistraße\, 91572 Bechhofen\, Deutschland
CATEGORIES:Wintersport
END:VEVENT
END:VCALENDAR